BEGIN:VCALENDAR
VERSION:2.0
PRODID:-//wp-events-plugin.com//6.4.6.4//EN
BEGIN:VEVENT
UID:41@bloomingbrainsacademy.com
DTSTART;TZID=America/Detroit:20251217T150000
DTEND;TZID=America/Detroit:20251217T160000
DTSTAMP:20251204T145622Z
URL:https://www.bloomingbrainsacademy.com/events/moving-up-ceremony/
SUMMARY:Moving Up Ceremony
DESCRIPTION:
ATTACH;FMTTYPE=image/jpeg:https://www.bloomingbrainsacademy.com/wp-content
 /uploads/2025/07/OpenHouseGraphic.jpg
END:VEVENT
BEGIN:VTIMEZONE
TZID:America/Detroit
X-LIC-LOCATION:America/Detroit
BEGIN:STANDARD
DTSTART:20251102T010000
TZOFFSETFROM:-0400
TZOFFSETTO:-0500
TZNAME:EST
END:STANDARD
END:VTIMEZONE
END:VCALENDAR<!-- html is corrupted -->